BEGIN:VCALENDAR
VERSION:2.0
PRODID:-//hacksw/handcal//NONSGML v1.0//EN
CALSCALE:GREGORIAN
BEGIN:VEVENT
ORGANIZER;CN=Trevi Therapeutics, Inc.:MAILTO:no-reply@gcs-web.com
DTEND:
UID:59663f07-558a-401a-8e5d-2c14f84937a7
DTSTAMP:1777129497
LOCATION:https://bofa.veracast.com/webcasts/bofa/healthcare2026/idH2x152.cfm
DESCRIPTION:Event Details https://ir.trevitherapeutics.com/events/event-details/bank-america-global-healthcare-conference-2026\n\nWebcast: https://bofa.veracast.com/webcasts/bofa/healthcare2026/idH2x152.cfm
URL;VALUE=URI:https://bofa.veracast.com/webcasts/bofa/healthcare2026/idH2x152.cfm
SUMMARY:Trevi Therapeutics, Inc. -  Bank of America Global Healthcare Conference 2026 
DTSTART:20260513T001500Z
END:VEVENT
END:VCALENDAR